BEGIN:VCALENDAR
VERSION:2.0
PRODID:-//Klaus Heuermann - ECPv6.15.20//NONSGML v1.0//EN
CALSCALE:GREGORIAN
METHOD:PUBLISH
X-WR-CALNAME:Klaus Heuermann
X-ORIGINAL-URL:https://www.klausheuermann.de
X-WR-CALDESC:Veranstaltungen für Klaus Heuermann
REFRESH-INTERVAL;VALUE=DURATION:PT1H
X-Robots-Tag:noindex
X-PUBLISHED-TTL:PT1H
BEGIN:VTIMEZONE
TZID:UTC
BEGIN:STANDARD
TZOFFSETFROM:+0000
TZOFFSETTO:+0000
TZNAME:UTC
DTSTART:20240101T000000
END:STANDARD
END:VTIMEZONE
BEGIN:VEVENT
DTSTART;TZID=UTC:20260416T193000
DTEND;TZID=UTC:20260416T220000
DTSTAMP:20260421T162834
CREATED:20260112T202848Z
LAST-MODIFIED:20260222T110242Z
UID:1188-1776367800-1776376800@www.klausheuermann.de
SUMMARY:Wendt & Heuermann bei Stubenrauch Wunstorf (Jazzgitarre)
DESCRIPTION:
URL:https://www.klausheuermann.de/event/wendt-heuermann-bei-stubenrauch-wunstorf-jazzgitarre-2/
END:VEVENT
BEGIN:VEVENT
DTSTART;TZID=UTC:20260301T180000
DTEND;TZID=UTC:20260301T193000
DTSTAMP:20260421T162834
CREATED:20260112T201323Z
LAST-MODIFIED:20260112T203050Z
UID:1179-1772388000-1772393400@www.klausheuermann.de
SUMMARY:Strinzetto Konzert St. Johannes Kirche\, Misburg (Viola)
DESCRIPTION:
URL:https://www.klausheuermann.de/event/strinzetto-st-johannes-kirche-misburg/
END:VEVENT
BEGIN:VEVENT
DTSTART;TZID=UTC:20260228T190000
DTEND;TZID=UTC:20260228T220000
DTSTAMP:20260421T162834
CREATED:20260112T202753Z
LAST-MODIFIED:20260112T202753Z
UID:1186-1772305200-1772316000@www.klausheuermann.de
SUMMARY:Voice over Piano Delmenhorst (Multi)
DESCRIPTION:
URL:https://www.klausheuermann.de/event/voice-over-piano-delmenhorst-multi/
END:VEVENT
BEGIN:VEVENT
DTSTART;TZID=UTC:20260206T193000
DTEND;TZID=UTC:20260206T220000
DTSTAMP:20260421T162834
CREATED:20260112T202627Z
LAST-MODIFIED:20260112T202627Z
UID:1184-1770406200-1770415200@www.klausheuermann.de
SUMMARY:Sessionopener Kunst & Bühne Celle (Bass)
DESCRIPTION:
URL:https://www.klausheuermann.de/event/sessionopener-kunst-buehne-celle-bass-3/
END:VEVENT
BEGIN:VEVENT
DTSTART;TZID=UTC:20260205T193000
DTEND;TZID=UTC:20260205T220000
DTSTAMP:20260421T162834
CREATED:20260112T202429Z
LAST-MODIFIED:20260112T202429Z
UID:1181-1770319800-1770328800@www.klausheuermann.de
SUMMARY:Wendt & Heuermann bei Stubenrauch Wunstorf (Jazzgitarre)
DESCRIPTION:
URL:https://www.klausheuermann.de/event/wendt-heuermann-bei-stubenrauch-wunstorf-jazzgitarre/
END:VEVENT
BEGIN:VEVENT
DTSTART;TZID=UTC:20251220T190000
DTEND;TZID=UTC:20251220T213000
DTSTAMP:20260421T162834
CREATED:20250909T101015Z
LAST-MODIFIED:20250909T101330Z
UID:1140-1766257200-1766266200@www.klausheuermann.de
SUMMARY:Voice Over Piano Winterzauber Ritterhude (Violine\, Gitarre & Percussion)
DESCRIPTION:
URL:https://www.klausheuermann.de/event/voice-over-piano-winterzauber-violine-gitarre-percussion/
END:VEVENT
BEGIN:VEVENT
DTSTART;TZID=UTC:20251218T190000
DTEND;TZID=UTC:20251218T213000
DTSTAMP:20260421T162834
CREATED:20250909T101055Z
LAST-MODIFIED:20250909T101402Z
UID:1142-1766084400-1766093400@www.klausheuermann.de
SUMMARY:Voice Over Piano Winterzauber Achim (Violine\, Gitarre & Percussion)
DESCRIPTION:
URL:https://www.klausheuermann.de/event/voice-over-piano-winterzauber-violine-gitarre-percussion-2/
END:VEVENT
BEGIN:VEVENT
DTSTART;TZID=UTC:20251213T190000
DTEND;TZID=UTC:20251213T213000
DTSTAMP:20260421T162834
CREATED:20250909T101140Z
LAST-MODIFIED:20250909T101420Z
UID:1144-1765652400-1765661400@www.klausheuermann.de
SUMMARY:Voice Over Piano Winterzauber Hoya (Violine\, Gitarre & Percussion)
DESCRIPTION:
URL:https://www.klausheuermann.de/event/voice-over-piano-winterzauber-violine-gitarre-percussion-3/
END:VEVENT
BEGIN:VEVENT
DTSTART;TZID=UTC:20251212T190000
DTEND;TZID=UTC:20251212T213000
DTSTAMP:20260421T162834
CREATED:20250909T101245Z
LAST-MODIFIED:20250909T101245Z
UID:1146-1765566000-1765575000@www.klausheuermann.de
SUMMARY:Voice Over Piano Winterzauber Delmenhorst (Violine\, Gitarre & Percussion)
DESCRIPTION:
URL:https://www.klausheuermann.de/event/voice-over-piano-winterzauber-delmenhorst-violine-gitarre-percussion/
END:VEVENT
BEGIN:VEVENT
DTSTART;TZID=UTC:20251207T180000
DTEND;TZID=UTC:20251207T200000
DTSTAMP:20260421T162834
CREATED:20250829T101632Z
LAST-MODIFIED:20250909T100716Z
UID:1133-1765130400-1765137600@www.klausheuermann.de
SUMMARY:Weihnachtskonzert Immanuelkirche Laatzen (Viola)
DESCRIPTION:Chor\, Orchester & Solisten \nSchnabel: Transeamus usque Bethlehem\nSaint-Saëns: Oratorio de Noël
URL:https://www.klausheuermann.de/event/weihnachtskonzert-alt-laatzen-viola/
END:VEVENT
BEGIN:VEVENT
DTSTART;TZID=UTC:20251206T200000
DTEND;TZID=UTC:20251206T220000
DTSTAMP:20260421T162834
CREATED:20251118T114847Z
LAST-MODIFIED:20251118T114847Z
UID:1173-1765051200-1765058400@www.klausheuermann.de
SUMMARY:Jazz Club Garbsen: Hanna & Alessandro Rinella Christmas Duets (Multi)
DESCRIPTION:
URL:https://www.klausheuermann.de/event/jazz-club-garbsen-hanna-alessandro-rinella-christmas-duets-multi/
END:VEVENT
BEGIN:VEVENT
DTSTART;TZID=UTC:20251205T190000
DTEND;TZID=UTC:20251205T213000
DTSTAMP:20260421T162834
CREATED:20250909T101523Z
LAST-MODIFIED:20250909T101523Z
UID:1152-1764961200-1764970200@www.klausheuermann.de
SUMMARY:Voice Over Piano Winterzauber Neu-Bruchhausen (Violine\, Gitarre & Percussion)
DESCRIPTION:
URL:https://www.klausheuermann.de/event/voice-over-piano-winterzauber-neu-bruchhausen-violine-gitarre-percussion/
END:VEVENT
BEGIN:VEVENT
DTSTART;TZID=UTC:20251204T193000
DTEND;TZID=UTC:20251204T220000
DTSTAMP:20260421T162834
CREATED:20250909T101703Z
LAST-MODIFIED:20250909T101741Z
UID:1155-1764876600-1764885600@www.klausheuermann.de
SUMMARY:Wendt & Heuermann bei Stubenrauch Wein (Jazzgitarre)
DESCRIPTION:
URL:https://www.klausheuermann.de/event/wendt-heuermann-bei-stubenrauch-wein-jazzgitarre-3/
END:VEVENT
BEGIN:VEVENT
DTSTART;TZID=UTC:20251130T170000
DTEND;TZID=UTC:20251130T190000
DTSTAMP:20260421T162834
CREATED:20250829T101006Z
LAST-MODIFIED:20250909T101603Z
UID:1131-1764522000-1764529200@www.klausheuermann.de
SUMMARY:Kloster Wienhausen Kantaten (Viola)
DESCRIPTION:
URL:https://www.klausheuermann.de/event/wienhausen-kantaten-viola/
END:VEVENT
BEGIN:VEVENT
DTSTART;TZID=UTC:20251115T180000
DTEND;TZID=UTC:20251115T200000
DTSTAMP:20260421T162835
CREATED:20251028T095147Z
LAST-MODIFIED:20251028T095147Z
UID:1170-1763229600-1763236800@www.klausheuermann.de
SUMMARY:Fauré Requiem St Joseph Hannover (Viola)
DESCRIPTION:
URL:https://www.klausheuermann.de/event/faure-requiem-st-joseph-hannover-viola/
END:VEVENT
BEGIN:VEVENT
DTSTART;TZID=UTC:20251109T170000
DTEND;TZID=UTC:20251109T200000
DTSTAMP:20260421T162835
CREATED:20250829T100511Z
LAST-MODIFIED:20250829T100511Z
UID:1124-1762707600-1762718400@www.klausheuermann.de
SUMMARY:Messias Jakobikirche Kirchrode (Viola)
DESCRIPTION:
URL:https://www.klausheuermann.de/event/messias-jakobikirche-kirchrode-viola/
END:VEVENT
BEGIN:VEVENT
DTSTART;TZID=UTC:20251106T193000
DTEND;TZID=UTC:20251106T220000
DTSTAMP:20260421T162835
CREATED:20250909T101814Z
LAST-MODIFIED:20250909T101814Z
UID:1157-1762457400-1762466400@www.klausheuermann.de
SUMMARY:Wendt & Heuermann bei Stubenrauch Wein (Jazzgitarre)
DESCRIPTION:
URL:https://www.klausheuermann.de/event/wendt-heuermann-bei-stubenrauch-wein-jazzgitarre-4/
END:VEVENT
BEGIN:VEVENT
DTSTART;TZID=UTC:20250925T170000
DTEND;TZID=UTC:20250925T220000
DTSTAMP:20260421T162835
CREATED:20250829T100748Z
LAST-MODIFIED:20250829T100852Z
UID:1127-1758819600-1758837600@www.klausheuermann.de
SUMMARY:Stoermer & Heuermann Duo Hannover (Jazzgitarre)
DESCRIPTION:
URL:https://www.klausheuermann.de/event/stoermer-heuermann-duo-hannover-gitarre/
END:VEVENT
BEGIN:VEVENT
DTSTART;TZID=UTC:20250918T193000
DTEND;TZID=UTC:20250918T220000
DTSTAMP:20260421T162835
CREATED:20250827T124257Z
LAST-MODIFIED:20250827T124257Z
UID:1122-1758223800-1758232800@www.klausheuermann.de
SUMMARY:Wendt & Heuermann bei Stubenrauch Wein (Jazzgitarre)
DESCRIPTION:
URL:https://www.klausheuermann.de/event/wendt-heuermann-bei-stubenrauch-wein-jazzgitarre-2/
END:VEVENT
BEGIN:VEVENT
DTSTART;TZID=UTC:20250907T130000
DTEND;TZID=UTC:20250907T150000
DTSTAMP:20260421T162835
CREATED:20250827T124148Z
LAST-MODIFIED:20250827T124148Z
UID:1120-1757250000-1757257200@www.klausheuermann.de
SUMMARY:Wendt\, Stoermer & Heuermann Wunstorf (Jazzgitarre)
DESCRIPTION:
URL:https://www.klausheuermann.de/event/wendt-stoermer-heuermann-wunstorf-jazzgitarre/
END:VEVENT
BEGIN:VEVENT
DTSTART;TZID=UTC:20250906T190000
DTEND;TZID=UTC:20250906T220000
DTSTAMP:20260421T162835
CREATED:20250901T091019Z
LAST-MODIFIED:20250901T091019Z
UID:1135-1757185200-1757196000@www.klausheuermann.de
SUMMARY:Voice over Piano open Air in Bücken (Violine\, Percussion)
DESCRIPTION:
URL:https://www.klausheuermann.de/event/voice-over-piano-open-air-in-buecken-violine-percussion/
END:VEVENT
BEGIN:VEVENT
DTSTART;TZID=UTC:20250905T190000
DTEND;TZID=UTC:20250905T210000
DTSTAMP:20260421T162835
CREATED:20250827T123932Z
LAST-MODIFIED:20250829T100837Z
UID:1118-1757098800-1757106000@www.klausheuermann.de
SUMMARY:Konzert mit Vocal Venture in Basinghausen (Jazzgitarre)
DESCRIPTION:
URL:https://www.klausheuermann.de/event/konzert-mit-vocal-venture-in-basinghausen/
END:VEVENT
BEGIN:VEVENT
DTSTART;TZID=UTC:20250829T200000
DTEND;TZID=UTC:20250829T230000
DTSTAMP:20260421T162835
CREATED:20250308T125652Z
LAST-MODIFIED:20250308T125652Z
UID:1046-1756497600-1756508400@www.klausheuermann.de
SUMMARY:Lösekes Blues Gang (Bass)
DESCRIPTION:
URL:https://www.klausheuermann.de/event/loesekes-blues-gang-bass/
END:VEVENT
BEGIN:VEVENT
DTSTART;TZID=UTC:20250710T200000
DTEND;TZID=UTC:20250710T220000
DTSTAMP:20260421T162835
CREATED:20250308T125436Z
LAST-MODIFIED:20250308T125436Z
UID:1044-1752177600-1752184800@www.klausheuermann.de
SUMMARY:Johnny Cash Show Bad Gandersheimer Festspiele (Gitarre)
DESCRIPTION:
URL:https://www.klausheuermann.de/event/johnny-cash-show-bad-gandersheimer-festspiele-gitarre-3/
END:VEVENT
BEGIN:VEVENT
DTSTART;TZID=UTC:20250708T200000
DTEND;TZID=UTC:20250708T220000
DTSTAMP:20260421T162835
CREATED:20250308T125404Z
LAST-MODIFIED:20250308T125404Z
UID:1042-1752004800-1752012000@www.klausheuermann.de
SUMMARY:Johnny Cash Show Bad Gandersheimer Festspiele (Gitarre)
DESCRIPTION:
URL:https://www.klausheuermann.de/event/johnny-cash-show-bad-gandersheimer-festspiele-gitarre-2/
END:VEVENT
BEGIN:VEVENT
DTSTART;TZID=UTC:20250705T150000
DTEND;TZID=UTC:20250705T180000
DTSTAMP:20260421T162835
CREATED:20250308T125337Z
LAST-MODIFIED:20250308T125337Z
UID:1040-1751727600-1751738400@www.klausheuermann.de
SUMMARY:Johnny Cash Show Bad Gandersheimer Festspiele (Gitarre)
DESCRIPTION:
URL:https://www.klausheuermann.de/event/johnny-cash-show-bad-gandersheimer-festspiele-gitarre/
END:VEVENT
BEGIN:VEVENT
DTSTART;TZID=UTC:20250627T190000
DTEND;TZID=UTC:20250627T220000
DTSTAMP:20260421T162835
CREATED:20250308T125758Z
LAST-MODIFIED:20250308T125758Z
UID:1048-1751050800-1751061600@www.klausheuermann.de
SUMMARY:Sessionopener Kunst & Bühne Celle (Bass)
DESCRIPTION:
URL:https://www.klausheuermann.de/event/sessionopener-kunst-buehne-celle-bass-2/
END:VEVENT
BEGIN:VEVENT
DTSTART;TZID=UTC:20250614T144000
DTEND;TZID=UTC:20250614T150000
DTSTAMP:20260421T162835
CREATED:20250411T072023Z
LAST-MODIFIED:20250411T072023Z
UID:1064-1749912000-1749913200@www.klausheuermann.de
SUMMARY:Matinee Trio bei Hellwach
DESCRIPTION:Matinee Barock Trio \nUlrike Teille – Barockvioline\nKlaus Heuermann – Barockvioline\nMonika Herrmann –  Barockcello \nHellwach der freien Klassik Szene Niedersachsen
URL:https://www.klausheuermann.de/event/matinee-trio-bei-hellwach/
END:VEVENT
BEGIN:VEVENT
DTSTART;TZID=UTC:20250605T193000
DTEND;TZID=UTC:20250605T220000
DTSTAMP:20260421T162835
CREATED:20250411T065131Z
LAST-MODIFIED:20250411T065630Z
UID:1055-1749151800-1749160800@www.klausheuermann.de
SUMMARY:Wendt & Heuermann bei Stubenrauch Wein Wunstorf (Jazzgitarre)
DESCRIPTION:Hans Wendt (Posaune) & Klaus Heuermann (Gitarre) spielen entspannte Jazz Standards. \nStubenrauch Wein & Bier \nLange Str.84\n31515 Wunstorf
URL:https://www.klausheuermann.de/event/wendt-heuermann-duo-bei-stubenrauch-jazzgitarre/
END:VEVENT
BEGIN:VEVENT
DTSTART;TZID=UTC:20250528T193000
DTEND;TZID=UTC:20250528T220000
DTSTAMP:20260421T162835
CREATED:20250308T125002Z
LAST-MODIFIED:20250308T125122Z
UID:1038-1748460600-1748469600@www.klausheuermann.de
SUMMARY:Hochzeit in Hollywood TfN (Banjo)
DESCRIPTION:
URL:https://www.klausheuermann.de/event/hochzeit-in-hollywood-tfn-banjo-2/
END:VEVENT
END:VCALENDAR